BEGIN:VCALENDAR
VERSION:2.0
PRODID:-//Office of Interprofessional Programs - ECPv6.15.16//NONSGML v1.0//EN
CALSCALE:GREGORIAN
METHOD:PUBLISH
X-WR-CALNAME:Office of Interprofessional Programs
X-ORIGINAL-URL:https://oipp.rbhs.rutgers.edu
X-WR-CALDESC:Events for Office of Interprofessional Programs
REFRESH-INTERVAL;VALUE=DURATION:PT1H
X-Robots-Tag:noindex
X-PUBLISHED-TTL:PT1H
BEGIN:VTIMEZONE
TZID:America/New_York
BEGIN:DAYLIGHT
TZOFFSETFROM:-0500
TZOFFSETTO:-0400
TZNAME:EDT
DTSTART:20250309T070000
END:DAYLIGHT
BEGIN:STANDARD
TZOFFSETFROM:-0400
TZOFFSETTO:-0500
TZNAME:EST
DTSTART:20251102T060000
END:STANDARD
BEGIN:DAYLIGHT
TZOFFSETFROM:-0500
TZOFFSETTO:-0400
TZNAME:EDT
DTSTART:20260308T070000
END:DAYLIGHT
BEGIN:STANDARD
TZOFFSETFROM:-0400
TZOFFSETTO:-0500
TZNAME:EST
DTSTART:20261101T060000
END:STANDARD
BEGIN:DAYLIGHT
TZOFFSETFROM:-0500
TZOFFSETTO:-0400
TZNAME:EDT
DTSTART:20270314T070000
END:DAYLIGHT
BEGIN:STANDARD
TZOFFSETFROM:-0400
TZOFFSETTO:-0500
TZNAME:EST
DTSTART:20271107T060000
END:STANDARD
END:VTIMEZONE
BEGIN:VEVENT
DTSTART;TZID=America/New_York:20260423T140000
DTEND;TZID=America/New_York:20260423T160000
DTSTAMP:20260418T010045
CREATED:20260313T141105Z
LAST-MODIFIED:20260313T141105Z
UID:11356-1776952800-1776960000@oipp.rbhs.rutgers.edu
SUMMARY:Social Determinants of Health and Patient Safety: Fostering Interprofessional Team Communication
DESCRIPTION:
URL:https://oipp.rbhs.rutgers.edu/event/social-determinants-of-health-and-patient-safety-fostering-interprofessional-team-communication-patient-safety-teamwork-and-collaboration-2-3-3/
CATEGORIES:Rutgers Event,Rutgers New Jersey Medical School,Rutgers School of Dental Medicine,Rutgers School of Nursing,Rutgers School of Social Work
END:VEVENT
END:VCALENDAR