BEGIN:VCALENDAR
VERSION:2.0
PRODID:-//Office of Interprofessional Programs - ECPv6.15.16//NONSGML v1.0//EN
CALSCALE:GREGORIAN
METHOD:PUBLISH
X-WR-CALNAME:Office of Interprofessional Programs
X-ORIGINAL-URL:https://oipp.rbhs.rutgers.edu
X-WR-CALDESC:Events for Office of Interprofessional Programs
REFRESH-INTERVAL;VALUE=DURATION:PT1H
X-Robots-Tag:noindex
X-PUBLISHED-TTL:PT1H
BEGIN:VTIMEZONE
TZID:America/New_York
BEGIN:DAYLIGHT
TZOFFSETFROM:-0500
TZOFFSETTO:-0400
TZNAME:EDT
DTSTART:20200308T070000
END:DAYLIGHT
BEGIN:STANDARD
TZOFFSETFROM:-0400
TZOFFSETTO:-0500
TZNAME:EST
DTSTART:20201101T060000
END:STANDARD
BEGIN:DAYLIGHT
TZOFFSETFROM:-0500
TZOFFSETTO:-0400
TZNAME:EDT
DTSTART:20210314T070000
END:DAYLIGHT
BEGIN:STANDARD
TZOFFSETFROM:-0400
TZOFFSETTO:-0500
TZNAME:EST
DTSTART:20211107T060000
END:STANDARD
BEGIN:DAYLIGHT
TZOFFSETFROM:-0500
TZOFFSETTO:-0400
TZNAME:EDT
DTSTART:20220313T070000
END:DAYLIGHT
BEGIN:STANDARD
TZOFFSETFROM:-0400
TZOFFSETTO:-0500
TZNAME:EST
DTSTART:20221106T060000
END:STANDARD
END:VTIMEZONE
BEGIN:VEVENT
DTSTART;VALUE=DATE:20210927
DTEND;VALUE=DATE:20210928
DTSTAMP:20260425T103313
CREATED:20210806T001545Z
LAST-MODIFIED:20210916T205629Z
UID:9517-1632700800-1632787199@oipp.rbhs.rutgers.edu
SUMMARY:Virtual Nexus Summit: Designing Curriculum with Community in the Nexus [External Event]
DESCRIPTION:
URL:https://oipp.rbhs.rutgers.edu/event/virtual-nexus-summit-designing-curriculum-with-community-in-the-nexus-external-event/
CATEGORIES:External Event
END:VEVENT
END:VCALENDAR